BEGIN:VCALENDAR
VERSION:2.0
PRODID:-//The LBCA - ECPv6.15.20//NONSGML v1.0//EN
CALSCALE:GREGORIAN
METHOD:PUBLISH
X-WR-CALNAME:The LBCA
X-ORIGINAL-URL:https://thelbca.ca
X-WR-CALDESC:Events for The LBCA
REFRESH-INTERVAL;VALUE=DURATION:PT1H
X-Robots-Tag:noindex
X-PUBLISHED-TTL:PT1H
BEGIN:VTIMEZONE
TZID:America/Edmonton
BEGIN:DAYLIGHT
TZOFFSETFROM:-0700
TZOFFSETTO:-0600
TZNAME:MDT
DTSTART:20220313T090000
END:DAYLIGHT
BEGIN:STANDARD
TZOFFSETFROM:-0600
TZOFFSETTO:-0700
TZNAME:MST
DTSTART:20221106T080000
END:STANDARD
BEGIN:DAYLIGHT
TZOFFSETFROM:-0700
TZOFFSETTO:-0600
TZNAME:MDT
DTSTART:20230312T090000
END:DAYLIGHT
BEGIN:STANDARD
TZOFFSETFROM:-0600
TZOFFSETTO:-0700
TZNAME:MST
DTSTART:20231105T080000
END:STANDARD
BEGIN:DAYLIGHT
TZOFFSETFROM:-0700
TZOFFSETTO:-0600
TZNAME:MDT
DTSTART:20240310T090000
END:DAYLIGHT
BEGIN:STANDARD
TZOFFSETFROM:-0600
TZOFFSETTO:-0700
TZNAME:MST
DTSTART:20241103T080000
END:STANDARD
END:VTIMEZONE
BEGIN:VEVENT
DTSTART;TZID=America/Edmonton:20231118T100000
DTEND;TZID=America/Edmonton:20231118T150000
DTSTAMP:20260422T165330
CREATED:20230724T053437Z
LAST-MODIFIED:20230829T164123Z
UID:10000282-1700301600-1700319600@thelbca.ca
SUMMARY:Christmas Craft Fair
DESCRIPTION:The LBCA’s annual Christmas Craft Fair is back for another exciting weekend! ☃️ \n\n\n\nPurchase unique\, artisan gifts from local vendors\, try a variety of delicious food and tasty treats\, and visit booths from multi-level marketing Calgarian businesses. \n\n\n\n🎄 Saturday\, November 18th: 10:00 AM to 3:00 PM🎄 Sunday\, November 19th: 10:00 AM to 3:00 PM \n\n\n\nStop by the LBCA and support local this holiday season! \n\n\n\nChristmas Craft Fair Applications open August 1 and close August 21\, 2023.  \n\n\n\nPlease note it is not a first come\, first serve application process. Vendors selected to participate in the Christmas Craft Fair are chosen based on various factors. You don’t need to be a Lake Bonavista Resident to apply.
URL:https://thelbca.ca/events/christmas-craft-fair-saturday/
LOCATION:LBCA – Gymnasium\, 1401 Acadia Dr SE\, Calgary\, Alberta\, T2J 4C6\, Canada
CATEGORIES:All Ages,LBCA Event,Youth
ATTACH;FMTTYPE=image/png:https://thelbca.ca/wp-content/uploads/2023/07/Screen-Shot-2023-07-23-at-11.53.07-PM.png
END:VEVENT
BEGIN:VEVENT
DTSTART;TZID=America/Edmonton:20231119T100000
DTEND;TZID=America/Edmonton:20231119T150000
DTSTAMP:20260422T165330
CREATED:20230726T194659Z
LAST-MODIFIED:20230803T202243Z
UID:10000286-1700388000-1700406000@thelbca.ca
SUMMARY:Christmas Craft Fair
DESCRIPTION:The LBCA’s annual Christmas Craft Fair is back for another exciting weekend! ☃️ \n\n\n\nPurchase unique\, artisan gifts from local vendors\, try a variety of delicious food and tasty treats\, and visit booths from multi-level marketing Calgarian businesses. \n\n\n\n🎄 Saturday\, November 18th: 10:00 AM to 3:00 PM🎄 Sunday\, November 19th: 10:00 AM to 3:00 PM \n\n\n\nStop by the LBCA and support local this holiday season! \n\n\n\n\nChristmas Craft Fair Applications open August 1 and close August 21\, 2023.  \n\n\n\nPlease note it is not a first come\, first serve application process. Vendors selected to participate in the Christmas Craft Fair are chosen based on various factors. You don’t need to be a Lake Bonavista Resident to apply. \n\n\n\n \n\n\n\n\ncraft fair applications (open august 1 @ 9am)
URL:https://thelbca.ca/events/christmas-craft-fair-sunday/
LOCATION:LBCA – Gymnasium\, 1401 Acadia Dr SE\, Calgary\, Alberta\, T2J 4C6\, Canada
CATEGORIES:All Ages,LBCA Event,Youth
ATTACH;FMTTYPE=image/jpeg:https://thelbca.ca/wp-content/uploads/2023/07/duskfall-crew-YlaBjIoi_1g-unsplash-scaled-e1690401236161.jpg
END:VEVENT
END:VCALENDAR