BEGIN:VCALENDAR
VERSION:2.0
PRODID:-//The LBCA - ECPv6.15.20//NONSGML v1.0//EN
CALSCALE:GREGORIAN
METHOD:PUBLISH
X-ORIGINAL-URL:https://thelbca.ca
X-WR-CALDESC:Events for The LBCA
REFRESH-INTERVAL;VALUE=DURATION:PT1H
X-Robots-Tag:noindex
X-PUBLISHED-TTL:PT1H
BEGIN:VTIMEZONE
TZID:America/Edmonton
BEGIN:DAYLIGHT
TZOFFSETFROM:-0700
TZOFFSETTO:-0600
TZNAME:MDT
DTSTART:20220313T090000
END:DAYLIGHT
BEGIN:STANDARD
TZOFFSETFROM:-0600
TZOFFSETTO:-0700
TZNAME:MST
DTSTART:20221106T080000
END:STANDARD
BEGIN:DAYLIGHT
TZOFFSETFROM:-0700
TZOFFSETTO:-0600
TZNAME:MDT
DTSTART:20230312T090000
END:DAYLIGHT
BEGIN:STANDARD
TZOFFSETFROM:-0600
TZOFFSETTO:-0700
TZNAME:MST
DTSTART:20231105T080000
END:STANDARD
BEGIN:DAYLIGHT
TZOFFSETFROM:-0700
TZOFFSETTO:-0600
TZNAME:MDT
DTSTART:20240310T090000
END:DAYLIGHT
BEGIN:STANDARD
TZOFFSETFROM:-0600
TZOFFSETTO:-0700
TZNAME:MST
DTSTART:20241103T080000
END:STANDARD
END:VTIMEZONE
BEGIN:VEVENT
DTSTART;TZID=America/Edmonton:20230920T160000
DTEND;TZID=America/Edmonton:20230920T190000
DTSTAMP:20260422T170109
CREATED:20230531T203206Z
LAST-MODIFIED:20230822T071919Z
UID:10000278-1695225600-1695236400@thelbca.ca
SUMMARY:YYC Food Trucks
DESCRIPTION:YYC Food Trucks are back\, serving up another delicious summer! \n\n\n\nStop by the LBCA on Wednesdays from 4:00 – 7:00 pm for a Food Truck Frenzy! Trucks will rotate every week\, so check out YYC Food Trucks on Instagram to see who’s onsite. \n\n\n\n\nYYC food trucks instagram
URL:https://thelbca.ca/events/yyc-food-trucks/2023-09-20/
LOCATION:Alberta
CATEGORIES:All Ages,LBCA Event
ATTACH;FMTTYPE=image/jpeg:https://thelbca.ca/wp-content/uploads/2023/05/qtq80-GjE2k5.jpeg
END:VEVENT
BEGIN:VEVENT
DTSTART;TZID=America/Edmonton:20230922T190000
DTEND;TZID=America/Edmonton:20230922T190000
DTSTAMP:20260422T170109
CREATED:20230724T043247Z
LAST-MODIFIED:20230726T201150Z
UID:10000280-1695409200-1695409200@thelbca.ca
SUMMARY:Watercolour & Wine Night
DESCRIPTION:Are you ready to unleash your inner artist and have fun while doing it? Join the LBCA for our second annual Watercolour & Wine Night!  \n\n\n\nOur local artist will teach you 3-4 different watercolour techniques and guide you through the necessary steps to take your blank canvas to a complete work of art. Participants will take home an 11″x15″ painting. All supplies are included.  \n\n\n\nEach artist will also receive one beverage (wine or non-alcoholic) and delicious desserts with their entry. Additional wine glasses will be available for $5.00 per glass. Please note that this is a cash-only event with no ATM on-site. \n\n\n\nMust be 18+ years to participate.  \n\n\n\n\n\n\nREGISTER
URL:https://thelbca.ca/events/watercolour-wine-night/
LOCATION:LBCA – Multi Purpose Room\, 1401 Acadia Dr SE\, Calgary\, Alberta\, T2J 4C6\, Canada
CATEGORIES:Adult,LBCA Event
ATTACH;FMTTYPE=image/jpeg:https://thelbca.ca/wp-content/uploads/2023/07/IMG_1296-1-scaled-e1690172877519.jpg
END:VEVENT
END:VCALENDAR