BEGIN:VCALENDAR
VERSION:2.0
PRODID:-//The LBCA - ECPv6.15.20//NONSGML v1.0//EN
CALSCALE:GREGORIAN
METHOD:PUBLISH
X-WR-CALNAME:The LBCA
X-ORIGINAL-URL:https://thelbca.ca
X-WR-CALDESC:Events for The LBCA
REFRESH-INTERVAL;VALUE=DURATION:PT1H
X-Robots-Tag:noindex
X-PUBLISHED-TTL:PT1H
BEGIN:VTIMEZONE
TZID:America/Edmonton
BEGIN:DAYLIGHT
TZOFFSETFROM:-0700
TZOFFSETTO:-0600
TZNAME:MDT
DTSTART:20230312T090000
END:DAYLIGHT
BEGIN:STANDARD
TZOFFSETFROM:-0600
TZOFFSETTO:-0700
TZNAME:MST
DTSTART:20231105T080000
END:STANDARD
BEGIN:DAYLIGHT
TZOFFSETFROM:-0700
TZOFFSETTO:-0600
TZNAME:MDT
DTSTART:20240310T090000
END:DAYLIGHT
BEGIN:STANDARD
TZOFFSETFROM:-0600
TZOFFSETTO:-0700
TZNAME:MST
DTSTART:20241103T080000
END:STANDARD
BEGIN:DAYLIGHT
TZOFFSETFROM:-0700
TZOFFSETTO:-0600
TZNAME:MDT
DTSTART:20250309T090000
END:DAYLIGHT
BEGIN:STANDARD
TZOFFSETFROM:-0600
TZOFFSETTO:-0700
TZNAME:MST
DTSTART:20251102T080000
END:STANDARD
END:VTIMEZONE
BEGIN:VEVENT
DTSTART;TZID=America/Edmonton:20241116T100000
DTEND;TZID=America/Edmonton:20241116T150000
DTSTAMP:20260419T092336
CREATED:20240729T180823Z
LAST-MODIFIED:20241016T212640Z
UID:10001300-1731751200-1731769200@thelbca.ca
SUMMARY:Christmas Craft Fair
DESCRIPTION:The LBCA’s annual Christmas Craft Fair is back for another exciting weekend! ☃️ \n\n\n\nPurchase unique\, artisan gifts from local vendors\, try a variety of delicious food and tasty treats\, and visit booths from multi-level marketing Calgarian businesses. \n\n\n\n🎄 Saturday\, November 16th: 10:00 AM to 3:00 PM🎄 Sunday\, November 17th: 10:00 AM to 3:00 PM \n\n\n\nStop by the LBCA and support local this holiday season!
URL:https://thelbca.ca/events/christmas-craft-fair/
LOCATION:Lake Bonavista Community Association\, 1401 Acadia Dr SE\, Calgary\, Alberta\, T2J 4C6\, Canada
CATEGORIES:All Ages,LBCA Event,Youth
ATTACH;FMTTYPE=image/png:https://thelbca.ca/wp-content/uploads/2024/07/CRaft-Fair.png
END:VEVENT
BEGIN:VEVENT
DTSTART;TZID=America/Edmonton:20241117T100000
DTEND;TZID=America/Edmonton:20241117T150000
DTSTAMP:20260419T092336
CREATED:20240729T181010Z
LAST-MODIFIED:20241016T212807Z
UID:10001301-1731837600-1731855600@thelbca.ca
SUMMARY:Christmas Craft Fair
DESCRIPTION:The LBCA’s annual Christmas Craft Fair is back for another exciting weekend! ☃️ \n\n\n\nPurchase unique\, artisan gifts from local vendors\, try a variety of delicious food and tasty treats\, and visit booths from multi-level marketing Calgarian businesses. \n\n\n\n🎄 Saturday\, November 16th: 10:00 AM to 3:00 PM🎄 Sunday\, November 17th: 10:00 AM to 3:00 PM \n\n\n\nStop by the LBCA and support local this holiday season! \n\n\n\nChristmas Craft Fair Applications open August 1 at 9:00am and close August 21\, 2024.
URL:https://thelbca.ca/events/christmas-craft-fair-2/
LOCATION:Lake Bonavista Community Association\, 1401 Acadia Dr SE\, Calgary\, Alberta\, T2J 4C6\, Canada
CATEGORIES:All Ages,LBCA Event,Youth
ATTACH;FMTTYPE=image/png:https://thelbca.ca/wp-content/uploads/2024/07/CRaft-Fair.png
END:VEVENT
END:VCALENDAR