BEGIN:VCALENDAR
VERSION:2.0
PRODID:-//The LBCA - ECPv6.15.20//NONSGML v1.0//EN
CALSCALE:GREGORIAN
METHOD:PUBLISH
X-WR-CALNAME:The LBCA
X-ORIGINAL-URL:https://thelbca.ca
X-WR-CALDESC:Events for The LBCA
REFRESH-INTERVAL;VALUE=DURATION:PT1H
X-Robots-Tag:noindex
X-PUBLISHED-TTL:PT1H
BEGIN:VTIMEZONE
TZID:America/Edmonton
BEGIN:DAYLIGHT
TZOFFSETFROM:-0700
TZOFFSETTO:-0600
TZNAME:MDT
DTSTART:20250309T090000
END:DAYLIGHT
BEGIN:STANDARD
TZOFFSETFROM:-0600
TZOFFSETTO:-0700
TZNAME:MST
DTSTART:20251102T080000
END:STANDARD
BEGIN:DAYLIGHT
TZOFFSETFROM:-0700
TZOFFSETTO:-0600
TZNAME:MDT
DTSTART:20260308T090000
END:DAYLIGHT
BEGIN:STANDARD
TZOFFSETFROM:-0600
TZOFFSETTO:-0700
TZNAME:MST
DTSTART:20261101T080000
END:STANDARD
BEGIN:DAYLIGHT
TZOFFSETFROM:-0700
TZOFFSETTO:-0600
TZNAME:MDT
DTSTART:20270314T090000
END:DAYLIGHT
BEGIN:STANDARD
TZOFFSETFROM:-0600
TZOFFSETTO:-0700
TZNAME:MST
DTSTART:20271107T080000
END:STANDARD
END:VTIMEZONE
BEGIN:VEVENT
DTSTART;TZID=America/Edmonton:20260529T141500
DTEND;TZID=America/Edmonton:20260529T160000
DTSTAMP:20260424T203219
CREATED:20260305T190906Z
LAST-MODIFIED:20260305T190907Z
UID:10003714-1780064100-1780070400@thelbca.ca
SUMMARY:Friday Drop-In Gym: Volleyball & Basketball
DESCRIPTION:The LBCA’s Drop-In runs weekly on Fridays and Sundays from March 29 – May 29\, 2026.On Fridays\, the equipment setup rotates\, either badminton and basketball or volleyball and basketball. \n\n\n\nFRIDAY Basketball & Volleyball Dates: Apr 17\, May 1\, 15\, 29FRIDAY Badminton & Basketball Dates: Apr 10\, 24\, May 8\, 22 \n\n\n\nSUNDAY Basketball & Volleyball Dates: Mar 29\, Apr12\, 26\, May 10\, 24SUNDAY Badminton & Basketball Dates: Apr 5\, 19\, May 3\, 17 \n\n\n\nIMPORTANT!\n\n\n\n\nNon-Member Adult: $7.00\, Adult-Member\, $5.00\, Non-Member/Member Youth: $5.00\,\n\n\n\nMembership is available to anyone\, you do not have to live in Lake Bonavista!\n\n\n\nChildren 10 yrs and under must be supervised by an adult\n\n\n\nNo food in the gym\, please eat snacks at the tables in the lobby\n\n\n\nCheck-in at the office is required prior to going into drop-in gym.\n\n\n\n\nDrop In Pricing & Scan Passes\n\n\n\n1x Drop-In Pass5x Drop-In Passes10x Drop-In Passes25x Drop-In PassesYouth Member$5.00 x$45.00Get 1 Free!$110.00Get 3 Free!Youth Non-Member$5.00xxxAdult Member$5.00$25.00$45.00Get 1 Free!$110.00Get 3 Free!Adult Non-Member$7.00$35.00xxMEMBERSHIPS ARE VALID JULY 1 – JUNE 30PUNCH PASSES ARE VALID MID-SEPT. TO MID-MAY (DATES VARY BY YEAR)\n\n\n\n\nBuy a membership
URL:https://thelbca.ca/events/friday-drop-in-gym-volleyball-basketball-6/2026-05-29/
LOCATION:LBCA – Gymnasium\, 1401 Acadia Dr SE\, Calgary\, Alberta\, T2J 4C6\, Canada
CATEGORIES:Adult,Drop-In
ATTACH;FMTTYPE=image/jpeg:https://thelbca.ca/wp-content/uploads/2023/04/EasePhoto-LakeBonavista-0502-1-scaled.jpg
END:VEVENT
BEGIN:VEVENT
DTSTART;TZID=America/Edmonton:20260530T090000
DTEND;TZID=America/Edmonton:20260530T110000
DTSTAMP:20260424T203219
CREATED:20260408T152425Z
LAST-MODIFIED:20260408T154254Z
UID:10003851-1780131600-1780138800@thelbca.ca
SUMMARY:Perennial Exchange
DESCRIPTION:Join us at LBCA Community Garden for the first Perennial Exchange!  \n\n\n\nBring a plant or cutting to swap and take home something new! \n\n\n\nWhether you have extras\, want to trade\, or just love chatting with fellow gardeners. Everyone is welcome! \n\n\n\nLet’s grow our GARDEN collections together!
URL:https://thelbca.ca/events/perennial-exchange/
LOCATION:LOCATION\, 1715 Lake Bonavista Drive\, Calgary\, AB\, T2J 0N3
ATTACH;FMTTYPE=image/png:https://thelbca.ca/wp-content/uploads/2026/04/Easter-Weekend-Drop-In-Schedule-11-x-8.5-in.png
ORGANIZER;CN="LBCA Community Garden":MAILTO:info@thelbca.ca
END:VEVENT
BEGIN:VEVENT
DTSTART;TZID=America/Edmonton:20260712T090000
DTEND;TZID=America/Edmonton:20260712T140000
DTSTAMP:20260424T203219
CREATED:20230413T182521Z
LAST-MODIFIED:20260424T220212Z
UID:10000024-1783846800-1783864800@thelbca.ca
SUMMARY:Community Clean Up
DESCRIPTION:It’s time for spring cleaning!  \n\n\n\nSave a trip to the landfill and dispose of unwanted items that don’t fit in your waste and recycling bins at the LBCA’s annual Community Clean Up.  \n\n\n\nWe will have electronics recycling\, scrap metal recycling and the Women In Need Society  will be on-site to take donations. \n\n\n\nThis service is free of charge to all Calgarians. \n\n\n\nWhat items are accepted at the Community Cleanups?\n\n\n\n\n\n\n\n\nAccepted items include (but are not limited to) furniture (desks\, chairs\, sofas\, old mattresses\, etc.)\, toilets\, and recalled or broken recreational products\n\n\n\nElectronics – see accepted items list\n\n\n\nWomen In Need Accepted & Needed items\n\n\n\n\nWhat are some of the restricted items that the Cleanups do not take?\n\n\n\n\n\n\n\n\nBarbecues\, lawnmowers\, household chemicals and large appliances. \n\n\n\nCar batteries\n\n\n\nGlass (window panes\, glass table tops\, etc.)\n\n\n\nHousehold appliances with freon (refrigerator\, freezer\, microwaves)\n\n\n\nLiquids (cooking oil)\n\n\n\nHousehold hazardous waste (propane tanks\, paint)\n\n\n\nAutomobile/cleaning/healthcare/gardening chemicals\n\n\n\nHousehold hazardous waste materials can be brought directly to a household hazardous waste drop-off location.\n\n\n\nScrap Metals – see prohibited items list\n\n\n\nElectronics – see prohibited items list \n\n\n\n\nNot sure what to do with an item?\n\n\n\n\n\n\n\nVisit calgary.ca/whatgoeswhere to find the right recycling and disposal options for your unwanted items. \n\n\n\nFor more tips on the use of green bins or larger items that cannot fit into your green bin please refer to: Using your green cart (calgary.ca). \n\n\n\nFor information on Community Cleanups\, contact Calgary 311 or 403-268-CITY (2489) by phone\, access 311 services online\, or connect via the 311 Calgary mobile app.
URL:https://thelbca.ca/events/community-clean-up/
LOCATION:LBCA – Gymnasium\, 1401 Acadia Dr SE\, Calgary\, Alberta\, T2J 4C6\, Canada
CATEGORIES:All Ages,LBCA Event
ATTACH;FMTTYPE=image/jpeg:https://thelbca.ca/wp-content/uploads/2023/04/qtq80-Uzawj2.jpeg
END:VEVENT
END:VCALENDAR