BEGIN:VCALENDAR
VERSION:2.0
PRODID:-//The LBCA - ECPv6.15.20//NONSGML v1.0//EN
CALSCALE:GREGORIAN
METHOD:PUBLISH
X-ORIGINAL-URL:https://thelbca.ca
X-WR-CALDESC:Events for The LBCA
REFRESH-INTERVAL;VALUE=DURATION:PT1H
X-Robots-Tag:noindex
X-PUBLISHED-TTL:PT1H
BEGIN:VTIMEZONE
TZID:America/Edmonton
BEGIN:DAYLIGHT
TZOFFSETFROM:-0700
TZOFFSETTO:-0600
TZNAME:MDT
DTSTART:20240310T090000
END:DAYLIGHT
BEGIN:STANDARD
TZOFFSETFROM:-0600
TZOFFSETTO:-0700
TZNAME:MST
DTSTART:20241103T080000
END:STANDARD
BEGIN:DAYLIGHT
TZOFFSETFROM:-0700
TZOFFSETTO:-0600
TZNAME:MDT
DTSTART:20250309T090000
END:DAYLIGHT
BEGIN:STANDARD
TZOFFSETFROM:-0600
TZOFFSETTO:-0700
TZNAME:MST
DTSTART:20251102T080000
END:STANDARD
BEGIN:DAYLIGHT
TZOFFSETFROM:-0700
TZOFFSETTO:-0600
TZNAME:MDT
DTSTART:20260308T090000
END:DAYLIGHT
BEGIN:STANDARD
TZOFFSETFROM:-0600
TZOFFSETTO:-0700
TZNAME:MST
DTSTART:20261101T080000
END:STANDARD
END:VTIMEZONE
BEGIN:VEVENT
DTSTART;TZID=America/Edmonton:20250527T093000
DTEND;TZID=America/Edmonton:20250527T113000
DTSTAMP:20260422T060334
CREATED:20250310T203245Z
LAST-MODIFIED:20250310T203246Z
UID:10002492-1748338200-1748345400@thelbca.ca
SUMMARY:Tumble Time
DESCRIPTION:Tumble Time runs Tuesdays\, Wednesdays\, and Thursdays \n\n\n\nTumble Time is a Drop-In\, parent-supervised program for children under 6 years old. Little ones will enjoy bouncy castles\, building blocks\, balls\, toys\, games\, and more! \n\n\n\nDrop-In Fees are applicable to children only\, parents/caregivers are free! \n\n\n\nDrop In Pricing & Scan Passes\n\n\n\n1x Drop-In Pass5x Drop-In Passes10x Drop-In Passes25x Drop-In PassesYouth Member$5.00 x$45.00Get 1 Free!$110.00Get 3 Free!Youth Non-Member$5.00xxxAdult Member$5.00$25.00$45.00Get 1 Free!$110.00Get 3 Free!Adult Non-Member$7.00$35.00xxMEMBERSHIPS ARE VALID JULY 1 – JUNE 30PUNCH PASSES ARE VALID MID-SEPT. TO MID-MAY (DATES VARY BY YEAR)\n\n\n\n\nBuy a membership
URL:https://thelbca.ca/events/tumble-time-3/2025-05-27/
LOCATION:LBCA – Gymnasium\, 1401 Acadia Dr SE\, Calgary\, Alberta\, T2J 4C6\, Canada
CATEGORIES:Drop-In,Youth
ATTACH;FMTTYPE=image/jpeg:https://thelbca.ca/wp-content/uploads/2023/04/EasePhoto-LakeBonavista-0057-scaled.jpg
END:VEVENT
BEGIN:VEVENT
DTSTART;TZID=America/Edmonton:20250527T143000
DTEND;TZID=America/Edmonton:20250527T154500
DTSTAMP:20260422T060334
CREATED:20250310T201840Z
LAST-MODIFIED:20250401T214616Z
UID:10002441-1748356200-1748360700@thelbca.ca
SUMMARY:Tuesday Leisure Skate: Small Ice
DESCRIPTION:Lace-up your skates and hit the LBCA’s small ice for a Leisure Skate. \n\n\n\nTuesday: 2:30 – 3:45 pm (Small Ice)Thursday: 12:00 – 1:00 pm (Small Ice) \n\n\n\n\nLeisure Skate is free for all LBCA Members\n\n\n\nMembership is available to anyone\, you do not have to live in Lake Bonavista!\n\n\n\n$5.00 for non-member youth\, $7.00 for non-member adults\n\n\n\nChildren under 10 must be supervised by an adult\n\n\n\nHelmet mandatory for participants under 10 years\n\n\n\nCheck-in at the office is required prior to going on the ice.\n\n\n\n\nDrop In Pricing \n\n\n\n1x Drop-In Pass5x Drop-In Passes10x Drop-In Passes25x Drop-In PassesYouth Member$5.00 x$45.00Get 1 Free!$110.00Get 3 Free!Youth Non-Member$5.00xxxAdult Member$5.00$25.00$45.00Get 1 Free!$110.00Get 3 Free!Adult Non-Member$7.00$35.00xxMEMBERSHIPS ARE VALID JULY 1 – JUNE 30PUNCH PASSES ARE VALID MID-SEPT. TO MID-MAY (DATES VARY BY YEAR)\n\n\n\n\nBuy a membership
URL:https://thelbca.ca/events/tuesday-leisure-skate-small-ice-2/2025-05-27/
LOCATION:LBCA – Small Arena\, 1401 Acadia Dr SE\, Calgary\, T2J 4C6
CATEGORIES:All Ages,Drop-In
ATTACH;FMTTYPE=image/jpeg:https://thelbca.ca/wp-content/uploads/2023/03/EasePhoto-LakeBonavista-0150-scaled.jpg
END:VEVENT
END:VCALENDAR