BEGIN:VCALENDAR
VERSION:2.0
PRODID:-//The LBCA - ECPv6.15.20//NONSGML v1.0//EN
CALSCALE:GREGORIAN
METHOD:PUBLISH
X-ORIGINAL-URL:https://thelbca.ca
X-WR-CALDESC:Events for The LBCA
REFRESH-INTERVAL;VALUE=DURATION:PT1H
X-Robots-Tag:noindex
X-PUBLISHED-TTL:PT1H
BEGIN:VTIMEZONE
TZID:America/Edmonton
BEGIN:DAYLIGHT
TZOFFSETFROM:-0700
TZOFFSETTO:-0600
TZNAME:MDT
DTSTART:20230312T090000
END:DAYLIGHT
BEGIN:STANDARD
TZOFFSETFROM:-0600
TZOFFSETTO:-0700
TZNAME:MST
DTSTART:20231105T080000
END:STANDARD
BEGIN:DAYLIGHT
TZOFFSETFROM:-0700
TZOFFSETTO:-0600
TZNAME:MDT
DTSTART:20240310T090000
END:DAYLIGHT
BEGIN:STANDARD
TZOFFSETFROM:-0600
TZOFFSETTO:-0700
TZNAME:MST
DTSTART:20241103T080000
END:STANDARD
BEGIN:DAYLIGHT
TZOFFSETFROM:-0700
TZOFFSETTO:-0600
TZNAME:MDT
DTSTART:20250309T090000
END:DAYLIGHT
BEGIN:STANDARD
TZOFFSETFROM:-0600
TZOFFSETTO:-0700
TZNAME:MST
DTSTART:20251102T080000
END:STANDARD
END:VTIMEZONE
BEGIN:VEVENT
DTSTART;TZID=America/Edmonton:20240505T121500
DTEND;TZID=America/Edmonton:20240505T131500
DTSTAMP:20260419T175304
CREATED:20240307T210611Z
LAST-MODIFIED:20240307T210913Z
UID:10001227-1714911300-1714914900@thelbca.ca
SUMMARY:Stick & Puck - Sundays
DESCRIPTION:Stick & Puck runs Sundays\, Mondays\, Wednesdays & Fridays Jan 14th-May 17th \n\n\n\n~Sundays: 12:15-1:15pm \n\n\n\n~Mondays: 3:00pm-4:30pm \n\n\n\n~Wednesdays: 12:00pm-1:00pm \n\n\n\n~Fridays: 12:30pm-2:00pm \n\n\n\nStrap on your skates and hop on the LBCA’s Small Ice for Drop-In Stick & Puck! Practice passing\, shooting and puck control\, and more in a fun and casual environment.  \n\n\n\n\nStick & Puck is free for all LBCA Members.\n\n\n\nCheck-in at the office is required prior to going on the ice.\n\n\n\nChildren under 10 must be supervised by an adult\n\n\n\nHelmets and gloves mandatory for all participants\n\n\n\nUnstructured scrimmages and formal coaching prohibited\n\n\n\n\n1x Drop-In Pass5x Drop-In Passes10x Drop-In Passes25x Drop-In PassesYouth Member$5.00 x$45.00Get 1 Free!$110.00Get 3 Free!Youth Non-Member$5.00xxxAdult Member$5.00$25.00$45.00Get 1 Free!$110.00Get 3 Free!Adult Non-Member$7.00$35.00xxMEMBERSHIPS ARE VALID JULY 1 – JUNE 30PUNCH PASSES ARE VALID MID-SEPT. TO MID-MAY (DATES VARY BY YEAR)\n\n\n\n\nBuy a membership\n\n\n\n\n\n\n\n	\n		\n\n			\n			\n\n							\n					\n						Upcoming Events					\n				\n			\n			\n				\n											\n\n	\n	\n		\n			Apr		\n		\n			20		\n	\n\n\n	\n		\n			\n\n				\n					\n		\n		9:15 AM – 11:15 AM	\n	\n\n	\n		\n\n	\n	\n	\n\n	\n\n\n					\n	\n		Pickleball – Monday (Intermediate – Advanced Only)	\n\n				\n\n				\n			\n		\n	\n\n\n											\n\n	\n	\n		\n			Apr		\n		\n			20		\n	\n\n\n	\n		\n			\n\n				\n					\n		\n		11:30 AM – 1:30 PM	\n	\n\n	\n		\n\n	\n	\n	\n\n	\n\n\n					\n	\n		Pickleball – Monday All Levels	\n\n				\n\n				\n			\n		\n	\n\n\n											\n\n	\n	\n		\n			Apr		\n		\n			20		\n	\n\n\n	\n		\n			\n\n				\n					\n		\n		3:00 PM – 4:30 PM	\n	\n\n	\n		\n\n	\n	\n	\n\n	\n\n\n					\n	\n		Monday Stick & Puck: Small Ice	\n\n				\n\n				\n			\n		\n	\n\n\n											\n\n	\n	\n		\n			Apr		\n		\n			21		\n	\n\n\n	\n		\n			\n\n				\n					\n		\n		9:30 AM – 11:30 AM	\n	\n\n	\n		\n\n	\n	\n	\n\n	\n\n\n					\n	\n		Tumble Time	\n\n				\n\n				\n			\n		\n	\n\n\n											\n\n	\n	\n		\n			Apr		\n		\n			21		\n	\n\n\n	\n		\n			\n\n				\n					\n		\n		1:15 PM – 3:15 PM	\n	\n\n	\n		\n\n	\n	\n	\n\n	\n\n\n					\n	\n		Pickleball – All Levels	\n\n				\n\n				\n			\n		\n	\n\n\n									\n\n				\n	\n		View Calendar
URL:https://thelbca.ca/events/stick-puck-sundays-4/2024-05-05/
LOCATION:LBCA – Small Arena\, 1401 Acadia Dr SE\, Calgary\, T2J 4C6
CATEGORIES:All Ages,Drop-In
ATTACH;FMTTYPE=image/jpeg:https://thelbca.ca/wp-content/uploads/2023/03/EasePhoto-LakeBonavista-0299-scaled.jpg
END:VEVENT
END:VCALENDAR