BEGIN:VCALENDAR
VERSION:2.0
PRODID:-//The LBCA - ECPv6.15.20//NONSGML v1.0//EN
CALSCALE:GREGORIAN
METHOD:PUBLISH
X-ORIGINAL-URL:https://thelbca.ca
X-WR-CALDESC:Events for The LBCA
REFRESH-INTERVAL;VALUE=DURATION:PT1H
X-Robots-Tag:noindex
X-PUBLISHED-TTL:PT1H
BEGIN:VTIMEZONE
TZID:America/Edmonton
BEGIN:DAYLIGHT
TZOFFSETFROM:-0700
TZOFFSETTO:-0600
TZNAME:MDT
DTSTART:20220313T090000
END:DAYLIGHT
BEGIN:STANDARD
TZOFFSETFROM:-0600
TZOFFSETTO:-0700
TZNAME:MST
DTSTART:20221106T080000
END:STANDARD
BEGIN:DAYLIGHT
TZOFFSETFROM:-0700
TZOFFSETTO:-0600
TZNAME:MDT
DTSTART:20230312T090000
END:DAYLIGHT
BEGIN:STANDARD
TZOFFSETFROM:-0600
TZOFFSETTO:-0700
TZNAME:MST
DTSTART:20231105T080000
END:STANDARD
BEGIN:DAYLIGHT
TZOFFSETFROM:-0700
TZOFFSETTO:-0600
TZNAME:MDT
DTSTART:20240310T090000
END:DAYLIGHT
BEGIN:STANDARD
TZOFFSETFROM:-0600
TZOFFSETTO:-0700
TZNAME:MST
DTSTART:20241103T080000
END:STANDARD
END:VTIMEZONE
BEGIN:VEVENT
DTSTART;TZID=America/Edmonton:20231029T113000
DTEND;TZID=America/Edmonton:20231029T133000
DTSTAMP:20260422T073959
CREATED:20230822T045310Z
LAST-MODIFIED:20230914T214746Z
UID:10000404-1698579000-1698586200@thelbca.ca
SUMMARY:Drop-In Gym - Sunday: Volleyball & Basketball
DESCRIPTION:The LBCA’s Drop-In Gym runs weekly on Fridays & Sundays Sept 17th-Dec 22nd.  \n\n\n\n~Fridays 1:30pm-4:00pm \n\n\n\n~Sundays: 11:30am-1:30pm \n\n\n\nClick HERE for full Drop-In Schedule & Holiday Schedule Modifications. \n\n\n\nThe equipment setup rotates between either volleyball and basketball or basketball\, floor hockey and soccer. \n\n\n\nVolleyball & Basketball Dates: Sept 17\, Oct 1\, 15\, 29\, Nov 12\, 26\, Dec 10  \n\n\n\nBasketball\, Floor Hockey & Soccer Dates: Sept 24\, Oct 8\, 22\, Nov 5\, Dec 3\, 17 \n\n\n\n1x Drop-In Pass5x Drop-In Passes10x Drop-In Passes25x Drop-In PassesYouth Member$5.00 x$45.00Get 1 Free!$110.00Get 3 Free!Youth Non-Member$5.00xxxAdult Member$5.00$25.00$45.00Get 1 Free!$110.00Get 3 Free!Adult Non-Member$7.00$35.00xxMEMBERSHIPS ARE VALID JULY 1 – JUNE 30PUNCH PASSES ARE VALID MID-SEPT. TO MID-MAY (DATES VARY BY YEAR)\n\n\n\n\nBuy a membership\n\n\n\n\n\n\n\n	\n		\n\n			\n			\n\n							\n					\n						Upcoming Events					\n				\n			\n			\n				\n											\n\n	\n	\n		\n			Apr		\n		\n			22		\n	\n\n\n	\n		\n			\n\n				\n					\n		\n		9:30 AM – 11:30 AM	\n	\n\n	\n		\n\n	\n	\n	\n\n	\n\n\n					\n	\n		Tumble Time	\n\n				\n\n				\n			\n		\n	\n\n\n											\n\n	\n	\n		\n			Apr		\n		\n			22		\n	\n\n\n	\n		\n			\n\n				\n					\n		\n		12:00 PM – 1:00 PM	\n	\n\n	\n		\n\n	\n	\n	\n\n	\n\n\n					\n	\n		Wednesday Stick & Puck: Large Ice	\n\n				\n\n				\n			\n		\n	\n\n\n											\n\n	\n	\n		\n			Apr		\n		\n			22		\n	\n\n\n	\n		\n			\n\n				\n					\n		\n		1:15 PM – 3:15 PM	\n	\n\n	\n		\n\n	\n	\n	\n\n	\n\n\n					\n	\n		Pickleball – Wednesday Beginners/All levels	\n\n				\n\n				\n			\n		\n	\n\n\n											\n\n	\n	\n		\n			Apr		\n		\n			23		\n	\n\n\n	\n		\n			\n\n				\n					\n		\n		9:30 AM – 11:30 AM	\n	\n\n	\n		\n\n	\n	\n	\n\n	\n\n\n					\n	\n		Tumble Time	\n\n				\n\n				\n			\n		\n	\n\n\n											\n\n	\n	\n		\n			Apr		\n		\n			23		\n	\n\n\n	\n		\n			\n\n				\n					\n		\n		12:15 PM – 1:15 PM	\n	\n\n	\n		\n\n	\n	\n	\n\n	\n\n\n					\n	\n		Thursday Leisure Skate: Small Ice	\n\n				\n\n				\n			\n		\n	\n\n\n									\n\n				\n	\n		View Calendar
URL:https://thelbca.ca/events/drop-in-gym-sunday-volleyball-basketball/2023-10-29/
LOCATION:LBCA – Gymnasium\, 1401 Acadia Dr SE\, Calgary\, Alberta\, T2J 4C6\, Canada
CATEGORIES:All Ages,Drop-In
ATTACH;FMTTYPE=image/jpeg:https://thelbca.ca/wp-content/uploads/2023/08/EasePhoto-LakeBonavista-0494-1-scaled.jpg
END:VEVENT
BEGIN:VEVENT
DTSTART;TZID=America/Edmonton:20231029T121500
DTEND;TZID=America/Edmonton:20231029T143000
DTSTAMP:20260422T073959
CREATED:20230724T052319Z
LAST-MODIFIED:20230922T211433Z
UID:10000281-1698581700-1698589800@thelbca.ca
SUMMARY:Halloween Skate
DESCRIPTION:Trick or Treat! Treat the whole family to a Halloween Skate at the LBCA. It’s an afternoon full of spooky skating\, fun\, and activities! Costumes welcome! \n\n\n\n12:15 – 1:15: Halloween Skate on Small Ice12:30 – 2:30 pm: Activities & Crafts in the Multi-Purpose Room \n\n\n\n\n\n\nREGISTER
URL:https://thelbca.ca/events/halloween-skate/
LOCATION:Alberta
CATEGORIES:Adult,All Ages,Drop-In,LBCA Event,Youth
ATTACH;FMTTYPE=image/webp:https://thelbca.ca/wp-content/uploads/2023/07/Halloween-Skate-2-e1690175922734.webp
END:VEVENT
END:VCALENDAR